BEGIN:VCALENDAR
VERSION:2.0
PRODID:-//UlrikeClassenBuettner.de - ECPv6.15.20//NONSGML v1.0//EN
CALSCALE:GREGORIAN
METHOD:PUBLISH
X-ORIGINAL-URL:https://ulrikeclassenbuettner.de
X-WR-CALDESC:Veranstaltungen für UlrikeClassenBuettner.de
REFRESH-INTERVAL;VALUE=DURATION:PT1H
X-Robots-Tag:noindex
X-PUBLISHED-TTL:PT1H
BEGIN:VTIMEZONE
TZID:UTC
BEGIN:STANDARD
TZOFFSETFROM:+0000
TZOFFSETTO:+0000
TZNAME:UTC
DTSTART:20240101T000000
END:STANDARD
END:VTIMEZONE
BEGIN:VEVENT
DTSTART;TZID=UTC:20251121T170000
DTEND;TZID=UTC:20251121T190000
DTSTAMP:20260421T103010
CREATED:20251106T164456Z
LAST-MODIFIED:20251120T120320Z
UID:506-1763744400-1763751600@ulrikeclassenbuettner.de
SUMMARY:Einsteigerkurs Spinnen
DESCRIPTION:Die Technik des Spinnens von der Steinzeit bis heute \nDatum: Fr. 21.11.2025\, 17-19 Uhr\, Bantenbergerstr. 2\, 51674 Wiehl-Bielstein\nTeilnehmerzahl: min. 4 Personen\, max. 10 Personen\nKursgebühr: 10\,- Euro + 4\,- Euro Materialkosten (Wolle und einfache selbstgebaute Spindel) \nKursbeschreibung: Dieser Kurs spannt einen zeitlichen Bogen von der Steinzeit bis ins Mittelalter zur Erfindung des Spinnrades und wird auch einen Blick auf die moderne Spinnerei werfen. Wir erkunden zu Beginn\, wie man ohne Hilfsmittel aus natürlichen Fasern einen stabilen Faden herstellen kann. Dann nehmen wir einfache Geräte wie Stöcke und Steine zur Hilfe und tasten uns langsam an die geniale Erfindung der Handspindel heran\, in der nicht nur ein Stab und ein Schwunggewicht kombiniert wurden\, sondern die mit ihrer (theoretisch) unendlichen Drehbewegung auch eine Inspiration für die Erfindung des Rades war. Es können unterschiedlichste Spindeltypen aus aller Welt getestet werden und wer mutig ist\, darf zum Schluss auch das Spinnen am Spinnrad ausprobieren.\nVon den Teilnehmern muss nichts mitgebracht werden. Geräte werden leihweise zur Verfügung gestellt.
URL:https://ulrikeclassenbuettner.de/event/einsteigerkurs-spinnen/
LOCATION:Bantenbergerstr. 2\, 51674 Bielstein (Grüne Geschäftsstelle)\, Bantenbergerstr. 2\, Wiehl\, 51674
CATEGORIES:Kurse / Workshops
ATTACH;FMTTYPE=image/jpeg:https://ulrikeclassenbuettner.de/wp-content/uploads/2023/11/logo_bw.jpg
END:VEVENT
END:VCALENDAR